BEGIN:VCALENDAR
VERSION:2.0
PRODID:-//Squarespace Inc/Squarespace 6//v6//EN
BEGIN:VEVENT
UID:59bc9455f9a61ebc1fe63e87@squarespace.com
DTSTAMP:20170916T030444Z
DTSTART:20171010T063000Z
DTEND:20171010T083000Z
SUMMARY:HCRT/HCCH Joint Management Committee meeting
END:VEVENT
END:VCALENDAR
