BEGIN:VCALENDAR
VERSION:2.0
PRODID:-//Squarespace Inc/Squarespace 6//v6//EN
BEGIN:VEVENT
UID:59bb5e94f43b55b1547213be@squarespace.com
DTSTAMP:20170919T060417Z
DTSTART:20171015T050000Z
DTEND:20171015T080000Z
SUMMARY:Quiz night at the Realm
END:VEVENT
END:VCALENDAR
