BEGIN:VCALENDAR
VERSION:2.0
PRODID:-//Squarespace Inc/Squarespace 6//v6//EN
BEGIN:VEVENT
UID:59ed2dcfcf81e0b374c8af75@squarespace.com
DTSTAMP:20171022T234716Z
DTSTART:20171028T210000Z
DTEND:20171028T214500Z
SUMMARY:Hataitai Bowling Club AGM
GEO:-41.303462;174.795122
LOCATION:Hataitai Bowling Club\, 157 Hataitai Road\, Wellington\, Wellingto
 n\, 6021\, New Zealand
END:VEVENT
END:VCALENDAR
