BEGIN:VCALENDAR
VERSION:2.0
PRODID:-//Squarespace Inc/Squarespace 6//v6//EN
BEGIN:VEVENT
UID:59ed2e0eb7411cd96fcc6dfd@squarespace.com
DTSTAMP:20171028T215029Z
DTSTART:20171028T214500Z
DTEND:20171028T223000Z
SUMMARY:Hataitai Community Recreation Trustee Ltd AGM
GEO:-41.303462;174.795122
LOCATION:Hataitai Bowling Club\, 157 Hataitai Road\, Wellington\, Wellingto
 n\, 6021\, New Zealand
END:VEVENT
END:VCALENDAR
