BEGIN:VCALENDAR
VERSION:2.0
PRODID:-//Squarespace Inc/Squarespace 6//v6//EN
BEGIN:VEVENT
UID:59bc83ee6f4ca38b94a1eaf6@squarespace.com
DTSTAMP:20170916T030757Z
DTSTART:20171003T063000Z
DTEND:20171003T083000Z
SUMMARY:Residents' Association meeting
END:VEVENT
END:VCALENDAR
