BEGIN:VCALENDAR
VERSION:2.0
PRODID:-//Squarespace Inc/Squarespace 6//v6//EN
BEGIN:VEVENT
UID:59ed2f75bff200ece075b025@squarespace.com
DTSTAMP:20171022T235623Z
DTSTART:20171031T050000Z
DTEND:20171031T070000Z
SUMMARY:Halloween at the Bowling Club
GEO:-41.303462;174.795122
LOCATION:Hataitai Bowling Club\, 157 Hataitai Road\, Wellington\, Wellingto
 n\, 6021\, New Zealand
END:VEVENT
END:VCALENDAR
