BEGIN:VCALENDAR
VERSION:2.0
PRODID:-//Squarespace Inc/Squarespace 6//v6//EN
BEGIN:VEVENT
UID:59bb5e34cf81e0851c60f5b6@squarespace.com
DTSTAMP:20170916T030825Z
DTSTART:20171006T210000Z
DTEND:20171007T000000Z
SUMMARY:Hataitai Community Market
END:VEVENT
END:VCALENDAR
