BEGIN:VCALENDAR
VERSION:2.0
PRODID:-//Squarespace Inc/Squarespace 6//v6//EN
BEGIN:VEVENT
UID:59c9f70c6f4ca36f93174bb1@squarespace.com
DTSTAMP:20171027T205623Z
DTSTART:20171112T040000Z
DTEND:20171112T060000Z
SUMMARY:Movie night - Murder on the Orient Express
END:VEVENT
END:VCALENDAR
