BEGIN:VCALENDAR
VERSION:2.0
PRODID:-//Squarespace Inc/Squarespace 6//v6//EN
BEGIN:VEVENT
UID:59ed2e81010027e1ef40cefe@squarespace.com
DTSTAMP:20171022T235204Z
DTSTART:20171107T063000Z
DTEND:20171107T083000Z
SUMMARY:Haitaitai Residents' Association meeting
END:VEVENT
END:VCALENDAR
