BEGIN:VCALENDAR
VERSION:2.0
PRODID:-//Squarespace Inc/Squarespace 6//v6//EN
BEGIN:VEVENT
UID:59ed2e5a8dd041fab94e3a78@squarespace.com
DTSTAMP:20171022T234912Z
DTSTART:20171103T210000Z
DTEND:20171104T000000Z
SUMMARY:Haitaitai community market
END:VEVENT
END:VCALENDAR
