BEGIN:VCALENDAR
VERSION:2.0
PRODID:-//Squarespace Inc/Squarespace 6//v6//EN
BEGIN:VEVENT
UID:5a0fe17d08522939d9332525@squarespace.com
DTSTAMP:20171118T073051Z
DTSTART:20171201T210000Z
DTEND:20171202T010000Z
SUMMARY:Hataitai community market
END:VEVENT
END:VCALENDAR
