BEGIN:VCALENDAR
VERSION:2.0
PRODID:-//Squarespace Inc/Squarespace 6//v6//EN
BEGIN:VEVENT
UID:59fbed97419202b415e6336d@squarespace.com
DTSTAMP:20171125T222640Z
DTSTART:20171203T020000Z
DTEND:20171203T053000Z
SUMMARY:Christmas on the Green
END:VEVENT
END:VCALENDAR
