BEGIN:VCALENDAR
VERSION:2.0
PRODID:-//Squarespace Inc/Squarespace 6//v6//EN
BEGIN:VEVENT
UID:59bc9082197aeab86bc324d9@squarespace.com
DTSTAMP:20170920T012807Z
DTSTART:20170901T220000Z
DTEND:20170902T010000Z
SUMMARY:Hataitai Community Market
END:VEVENT
END:VCALENDAR
