BEGIN:VCALENDAR
VERSION:2.0
PRODID:-//Squarespace Inc/Squarespace 6//v6//EN
BEGIN:VEVENT
UID:59ba576ae03f38cd818a8427@squarespace.com
DTSTAMP:20170919T060531Z
DTSTART:20170921T080000Z
DTEND:20170921T100000Z
SUMMARY:HCCCH AGM
END:VEVENT
END:VCALENDAR
