BEGIN:VCALENDAR
VERSION:2.0
PRODID:-//Squarespace Inc/Squarespace 6//v6//EN
BEGIN:VEVENT
UID:59ba5730b1ffb6aa0141aa07@squarespace.com
DTSTAMP:20170915T045825Z
DTSTART:20170905T080000Z
DTEND:20170905T093000Z
SUMMARY:Hataitai Residents' Association AGM
END:VEVENT
END:VCALENDAR
